BEGIN:VCALENDAR
VERSION:2.0
PRODID:-//eventon.com NONSGML v1.0//EN
CALSCALE:GREGORIAN
METHOD:PUBLISH
BEGIN:VEVENT
UID:69e5fa7edfae0
DTSTAMP:20260420T100550Z
DTSTART:20260311T090000Z
DTEND:20260311T093000Z
LOCATION:
SUMMARY:Webinar: FP Sign fÃ¼r DATEV
DESCRIPTION:Thema: Digitale Signaturen â€“ fÃ¼r Ihre elektronische Untersch
 rift Digitale Signaturen oder digitale Unterschriften sind wie elektronisch
 e FingerabdrÃ¼cke. Mithilfe der digitalen Signatur lassen sich elektronisch
 e Dokumente digital unterzeichnen. Digitale Signaturen nutzen das akzeptier
 te Standardformat&nbsp;Public Key Infrastructure (PKI)\,  um ein HÃ¶chstmaÃ
 Ÿ an Sicherheit und universeller Akzeptanz zu garantieren.Ziel der digitale
 n Signatur ist[..]\nhttps://www.microplan.de/events/webinar-fp-sign-fuer-da
 tev/
URL:https://www.microplan.de/events/webinar-fp-sign-fuer-datev/
END:VEVENT
END:VCALENDAR